BEGIN:VCALENDAR
CALSCALE:GREGORIAN
VERSION:2.0
X-WR-CALNAME:Kindervelobörse
METHOD:PUBLISH
PRODID:-//Apple Inc.//macOS 26.3.1//EN
BEGIN:VTIMEZONE
TZID:Europe/Zurich
BEGIN:DAYLIGHT
TZOFFSETFROM:+0100
DTSTART:19810329T020000
RRULE:FREQ=YEARLY;BYMONTH=3;BYDAY=-1SU
TZNAME:CEST
TZOFFSETTO:+0200
END:DAYLIGHT
BEGIN:STANDARD
TZOFFSETFROM:+0200
DTSTART:19961027T030000
RRULE:FREQ=YEARLY;BYMONTH=10;BYDAY=-1SU
TZNAME:CET
TZOFFSETTO:+0100
END:STANDARD
END:VTIMEZONE
BEGIN:VEVENT
CREATED:20260205T162219Z
DTEND;TZID=Europe/Zurich:20260411T120000
TRANSP:OPAQUE
UID:D1EC1501-99F4-48BE-8E22-6C7983FC6486
X-APPLE-CREATOR-IDENTITY:com.apple.calendar
DTSTART;TZID=Europe/Zurich:20260411T100000
LAST-MODIFIED:20260316T204533Z
DTSTAMP:20260316T204627Z
LOCATION:Schule Altweg
SUMMARY:Kindervelobörse
SEQUENCE:1
BEGIN:VALARM
UID:934F198E-299A-4487-8C02-847F86CE752C
X-WR-ALARMUID:934F198E-299A-4487-8C02-847F86CE752C
TRIGGER:-PT30M
DESCRIPTION:Reminder
ACTION:DISPLAY
END:VALARM
BEGIN:VALARM
TRIGGER;VALUE=DATE-TIME:19760401T005545Z
ACTION:NONE
END:VALARM
END:VEVENT
END:VCALENDAR
